BEGIN:VCALENDAR
VERSION:2.0
PRODID:-//Cults, Bieldside &amp; Milltimber Community Council - ECPv6.15.20//NONSGML v1.0//EN
CALSCALE:GREGORIAN
METHOD:PUBLISH
X-WR-CALNAME:Cults, Bieldside &amp; Milltimber Community Council
X-ORIGINAL-URL:https://www.cbmcommunity.org.uk
X-WR-CALDESC:Events for Cults, Bieldside &amp; Milltimber Community Council
REFRESH-INTERVAL;VALUE=DURATION:PT1H
X-Robots-Tag:noindex
X-PUBLISHED-TTL:PT1H
BEGIN:VTIMEZONE
TZID:Europe/London
BEGIN:DAYLIGHT
TZOFFSETFROM:+0000
TZOFFSETTO:+0100
TZNAME:BST
DTSTART:20250330T010000
END:DAYLIGHT
BEGIN:STANDARD
TZOFFSETFROM:+0100
TZOFFSETTO:+0000
TZNAME:GMT
DTSTART:20251026T010000
END:STANDARD
BEGIN:DAYLIGHT
TZOFFSETFROM:+0000
TZOFFSETTO:+0100
TZNAME:BST
DTSTART:20260329T010000
END:DAYLIGHT
BEGIN:STANDARD
TZOFFSETFROM:+0100
TZOFFSETTO:+0000
TZNAME:GMT
DTSTART:20261025T010000
END:STANDARD
BEGIN:DAYLIGHT
TZOFFSETFROM:+0000
TZOFFSETTO:+0100
TZNAME:BST
DTSTART:20270328T010000
END:DAYLIGHT
BEGIN:STANDARD
TZOFFSETFROM:+0100
TZOFFSETTO:+0000
TZNAME:GMT
DTSTART:20271031T010000
END:STANDARD
END:VTIMEZONE
BEGIN:VEVENT
DTSTART;TZID=Europe/London:20260912T100000
DTEND;TZID=Europe/London:20260912T120000
DTSTAMP:20260423T153213
CREATED:20260113T133122Z
LAST-MODIFIED:20260113T133122Z
UID:12203-1789207200-1789214400@www.cbmcommunity.org.uk
SUMMARY:Aberdeen Deeside Rotary Coffee Morning
DESCRIPTION:Fundraising Coffee Morning.
URL:https://www.cbmcommunity.org.uk/event/aberdeen-deeside-rotary-coffee-morning-2/
LOCATION:Cults Kirk Centre\, 404 North Deeside Road\, Cults\, AB15 9TD\, United Kingdom
CATEGORIES:Community,Rotary
END:VEVENT
END:VCALENDAR